BEGIN:VCALENDAR
VERSION:2.0
PRODID:-//Acorns Children&rsquo;s Hospice - ECPv6.15.17.1//NONSGML v1.0//EN
CALSCALE:GREGORIAN
METHOD:PUBLISH
X-WR-CALNAME:Acorns Children&rsquo;s Hospice
X-ORIGINAL-URL:https://www.acorns.org.uk
X-WR-CALDESC:Events for Acorns Children&rsquo;s Hospice
REFRESH-INTERVAL;VALUE=DURATION:PT1H
X-Robots-Tag:noindex
X-PUBLISHED-TTL:PT1H
BEGIN:VTIMEZONE
TZID:Europe/London
BEGIN:DAYLIGHT
TZOFFSETFROM:+0000
TZOFFSETTO:+0100
TZNAME:BST
DTSTART:20260329T010000
END:DAYLIGHT
BEGIN:STANDARD
TZOFFSETFROM:+0100
TZOFFSETTO:+0000
TZNAME:GMT
DTSTART:20261025T010000
END:STANDARD
BEGIN:DAYLIGHT
TZOFFSETFROM:+0000
TZOFFSETTO:+0100
TZNAME:BST
DTSTART:20270328T010000
END:DAYLIGHT
BEGIN:STANDARD
TZOFFSETFROM:+0100
TZOFFSETTO:+0000
TZNAME:GMT
DTSTART:20271031T010000
END:STANDARD
BEGIN:DAYLIGHT
TZOFFSETFROM:+0000
TZOFFSETTO:+0100
TZNAME:BST
DTSTART:20280326T010000
END:DAYLIGHT
BEGIN:STANDARD
TZOFFSETFROM:+0100
TZOFFSETTO:+0000
TZNAME:GMT
DTSTART:20281029T010000
END:STANDARD
END:VTIMEZONE
BEGIN:VEVENT
DTSTART;VALUE=DATE:20270425
DTEND;VALUE=DATE:20270426
DTSTAMP:20260424T113410
CREATED:20250709T130656Z
LAST-MODIFIED:20260424T085232Z
UID:10000099-1808611200-1808697599@www.acorns.org.uk
SUMMARY:TCS London Marathon 2027
DESCRIPTION:[vc_row gap=”15″ css=”.vc_custom_1777017696942{background-color: #eedceb !important;border-radius: 20px !important;}”][vc_column width=”1/3″][vc_row_inner][vc_column_inner][vc_column_text css=””]Date: 25th April 2027\nTime: 9am\nLocation: Greenwich\, London[/vc_column_text][vc_column_text css=””][/vc_column_text][/vc_column_inner][/vc_row_inner][/vc_column][vc_column width=”1/3″][vc_column_text css=””]Entry Price: £100\nMinimum Sponsorship: £2\,600\nOrganisers: London Marathon Events[/vc_column_text][/vc_column][vc_column width=”1/3″][vc_column_text css=””]Contact: Acorns Events team\nTelephone: 01564 825037 \nPlease read the full terms and conditions before applying for an Acorns charity place.[/vc_column_text][/vc_column][/vc_row][vc_row disable_element=”yes”][vc_column][vc_row_inner][vc_column_inner][vc_column_text css=””] \nJoin #TeamAcorns at the TCS London Marathon 2027! \nJoin over 56\,000 other runners taking on the most iconic 26.2 miles in the world at the TCS London Marathon 2027. Take in the incredible sights of London’s landmarks on this world famous route and help us provide vital care and support for local children and their families. \nThousands of people line the streets making the atmosphere incomparable\, and an incredible day to remember![/vc_column_text][/vc_column_inner][/vc_row_inner][vc_row_inner][vc_column_inner width=”1/2″][vc_column_text css=””] \nPublic ballot\n \nThe best way to secure a place in the TCS London Marathon 2027 is through the public ballot. This usually opens shortly before the 2026 race. \nIf you’re lucky enough to secure a place\, you can still run as part of #TeamAcorns. \n \nCharity places\nAcorns Children’s Hospice has a limited number of charity places in the TCS London Marathon 2027\, which come with a minimum fundraising target. \nTo register your interest for one of our charity places\, please fill out the form below or contact our Events team.[/vc_column_text][vc_empty_space height=”20px”][/vc_column_inner][vc_column_inner width=”1/2″][vc_single_image image=”20183″ img_size=”full” alignment=”center” css=””][/vc_column_inner][/vc_row_inner][/vc_column][/vc_row][vc_row][vc_column][vc_row_inner][vc_column_inner][vc_column_text css=””] \nJoin #TeamAcorns at the TCS London Marathon 2027 – the largest fundraising event in the world!\nRun the race of a lifetime as part of our TCS London Marathon 2027 team. Cross the famous finish line on the Mall and know that your efforts are helping children with short lives across the West Midlands and Gloucestershire. Please note\, the minimum fundraising target is £2\,600 for charity place runners.[/vc_column_text][/vc_column_inner][/vc_row_inner][/vc_column][/vc_row][vc_row][vc_column][vc_row_inner][vc_column_inner width=”1/2″][vc_column_text css=””] \nApply for a #TeamAcorns charity place\nWe’re excited to offer a limited number of #TeamAcorns charity places in the TCS London Marathon 2027. These places come with a minimum fundraising commitment of £2\,600\, helping us raise vital funds for local children and families. \nApplications are now open – before starting your application please take a moment to read all the information on the form.[/vc_column_text]\n		\n            Apply to join #TeamAcorns                    \n\n	[vc_empty_space height=”10px”][vc_column_text css=””]Take on the most famous 26.2 miles in the world for so much more than a medal: \n\nFor the smile on a child’s face when they get a clinically supported stay at Acorns.\nFor the moment they can finally move their limbs thanks to the warming waters of our hydrotherapy pool.\nFor the relief of being free from pain\, thanks to the expert care of our nurses.\n\n[/vc_column_text][/vc_column_inner][vc_column_inner width=”1/2″][vc_single_image image=”20183″ img_size=”full” alignment=”center” css=””][/vc_column_inner][/vc_row_inner][/vc_column][/vc_row][vc_row theme_background=”theme-row theme-stroked-edge” full_width=”stretch_row” css=”.vc_custom_1777017737229{background-color: #d3efed !important;}”][vc_column width=”1/2″][vc_column_text css=””] \nBe part of #TeamAcorns\n2027 will see our biggest ever group of #TeamAcorns runners hit the streets of London\, so get onboard today! \nHow will we support you? \n\nDedicated support from our specialist Events team\, including a dedicated point of contact to support you throughout your entire journey.\nFree access to the Coopah app\, including a personalised training plan that adapts to you – helping you stay on track\, avoid injury and reach the start line feeling strong.\nAccess to our TCS London Marathon 2027 community on WhatsApp and online meet and greet sessions – to share tips\, ask questions and learn from others.\nA personalised Acorns running vest with your name.\nAn Acorns water bottle to help you during those months of training!\nAccess to a wide variety of fundraising ideas\, materials and resources.\nOpportunities for PR support to share your story.\nCheer squad materials for your friends and family.\nOn the day cheer squad support to motivate you as you tackle the 26.2 miles!\n\n[/vc_column_text]\n		\n            Apply today                    \n\n	[/vc_column][vc_column width=”1/2″][vc_empty_space][vc_single_image image=”20179″ img_size=”full” css=””][/vc_column][/vc_row][vc_row][vc_column][vc_row_inner][vc_column_inner][vc_column_text css=””] \nWhy Acorns needs your support\nAcorns is here to support families at every stage of their child’s life and beyond\, with over 800 children and over 1\,100 families supported each year. But there are hundreds more children who need our support. \nBy pledging to raise £2\,600\, you could support a specialist working with a family for up to two years – building their resilience\, improving wellbeing and helping them care for their child with confidence. \nOur vital work wouldn’t be possible without the extraordinary generosity of our event participants. Thank you![/vc_column_text][/vc_column_inner][/vc_row_inner][/vc_column][/vc_row][vc_row][vc_column][vc_column_text css=””] \nCheck out #TeamAcorns at previous London Marathons\n[/vc_column_text][vc_row_inner][vc_column_inner width=”1/2″][vc_video link=”https://www.youtube.com/shorts/01P2ZmDrLpY” align=”center” css=””][/vc_column_inner][vc_column_inner width=”1/2″][vc_gallery interval=”3″ images=”20183\,20180\,20182\,20398\,20399″ img_size=”1066×600″ css=””][/vc_column_inner][/vc_row_inner][vc_column_text css=””]Got a question about this event? Contact our Events team at events@acorns.org.uk and we’ll respond as soon as we can.[/vc_column_text][/vc_column][/vc_row][vc_row][vc_column][vc_row_inner][vc_column_inner][vc_column_text css=””] \nPublic ballot\nThe best way to secure a place in the TCS London Marathon 2027 is through the public ballot. The ballot is only open now until 4pm on Friday 1 May 2026\, enter today to secure your place. \nIf you’re lucky enough to secure a place\, we’d love to hear from you and have you run as part of #TeamAcorns![/vc_column_text][/vc_column_inner][/vc_row_inner][/vc_column][/vc_row][vc_row theme_background=”theme-row theme-stroked-edge” full_width=”stretch_row” disable_element=”yes” css=”.vc_custom_1777017770340{background-color: #EEDCEB !important;}” el_id=”register-interest”][vc_column][vc_row_inner theme_background=”theme-inner-row theme-stroked-frame” content_placement=”middle” css=”.vc_custom_1751977515833{background-color: #FFFFFF !important;}”][vc_column_inner][vc_column_text css=””] \nRegister your interest\n[/vc_column_text][vc_column_text css=””]Please fill out the form below to register your interest for the TCS London Marathon 2027.[/vc_column_text]\n	Notice: JavaScript is required for this content.\n\n\n    \n\n\n        \n        \n                \n\n        \n\n        [/vc_column_inner][/vc_row_inner][/vc_column][/vc_row][vc_row][vc_column][vc_separator][vc_column_text] \nEvent details\n[/vc_column_text][/vc_column][/vc_row]
URL:https://www.acorns.org.uk/acornsevent/london-marathon-2027/
LOCATION:Blackheath\, London\, SE3 7BT\, Greater London\, SE3 7BT\, United Kingdom
CATEGORIES:Running
ATTACH;FMTTYPE=image/png:https://www.acorns.org.uk/wp-content/uploads/2024/09/London-Marathon-2.png
GEO:51.4766827;0.0228966
END:VEVENT
BEGIN:VEVENT
DTSTART;VALUE=DATE:20270910
DTEND;VALUE=DATE:20270915
DTSTAMP:20260424T113410
CREATED:20260317T142914Z
LAST-MODIFIED:20260420T095716Z
UID:10000134-1820534400-1820966399@www.acorns.org.uk
SUMMARY:Acorns Trek the Alps 2027
DESCRIPTION:[vc_row][vc_column][vc_row_inner equal_height=”yes” gap=”10″ css=”.vc_custom_1773748681181{padding-right: 35px !important;padding-left: 35px !important;}”][vc_column_inner width=”1/3″ css=”.vc_custom_1773747782104{padding-right: 10px !important;padding-left: 10px !important;background-color: #0E3E67 !important;border-radius: 10px !important;}”][vc_icon icon_fontawesome=”fa fa-solid fa-calendar” color=”white” size=”lg” align=”center” css=”.vc_custom_1773326156803{margin-bottom: 10px !important;}”][vc_column_text css=””] \n10th – 14th September 2027 \n[/vc_column_text][/vc_column_inner][vc_column_inner width=”1/3″ css=”.vc_custom_1773312692528{background-color: #0E3E67 !important;border-radius: 10px !important;}”][vc_icon icon_fontawesome=”fa fa-solid fa-map-location-dot” color=”white” size=”lg” align=”center” css=”.vc_custom_1773326745949{margin-bottom: 10px !important;}”][vc_column_text css=””] \nThe Alps\, France \n[/vc_column_text][/vc_column_inner][vc_column_inner width=”1/3″ css=”.vc_custom_1773312705873{background-color: #0E3E67 !important;border-radius: 10px !important;}”][vc_icon icon_fontawesome=”fa fa-solid fa-piggy-bank” color=”white” size=”lg” align=”center” css=”.vc_custom_1773747578102{margin-bottom: 10px !important;}”][vc_column_text css=””] \nRegistration: £390 \nMinimum sponsorship: from £1\,460 \n[/vc_column_text][/vc_column_inner][/vc_row_inner][/vc_column][/vc_row][vc_row equal_height=”yes”][vc_column]\n		\n            Secure your place                    \n\n	[vc_empty_space][vc_column_text css=””]Please read the full terms and conditions before signing up.[/vc_column_text][/vc_column][/vc_row][vc_row theme_background=”theme-row theme-stroked-edge” full_width=”stretch_row” equal_height=”yes” css=”.vc_custom_1775829092995{background-color: #D3EFED !important;}”][vc_column][vc_column_text css=””] \nJoin our FREE virtual information session\nInterested in our challenge but have questions? Join Acorns and trek provider\, Different Travel\, for an informative virtual session all about what you can expect with the chance to ask your own questions. \nMonday 11th May at 7pm via Teams[/vc_column_text]\n		\n            Sign up                    \n\n	[/vc_column][/vc_row][vc_row equal_height=”yes”][vc_column][vc_row_inner][vc_column_inner][vc_column_text css=””] \nJoin #TeamAcorns for a truly unforgettable experience across three countries!\n[/vc_column_text][/vc_column_inner][/vc_row_inner][vc_row_inner][vc_column_inner width=”1/2″][vc_column_text css=””]Join #TeamAcorns for this epic adventure that takes us through the Alps – with three countries in three days. This challenge will see you explore France\, Italy and Switzerland as we take on a section of the Tour du Mont Blanc. \nThe route encircles the Mont Blanc Massif and is considered one of the world’s classic long-distance walking trails.[/vc_column_text][vc_column_text css=””] \nThe challenge\nThis trek is graded moderate to challenging because of the combination of long days trekking over uneven mountain terrain\, including steep ascents and descents for approximately 6-8 hours each day (variable depending on group pace)\, and basic sleeping conditions. It is essential that your training includes hill walking and trekking up and down gradients to best prepare you.[/vc_column_text]\n		\n            Sign up today                    \n\n	[vc_empty_space][/vc_column_inner][vc_column_inner width=”1/2″][vc_single_image image=”30540″ img_size=”full” css=””][/vc_column_inner][/vc_row_inner][/vc_column][/vc_row][vc_row equal_height=”yes” el_id=”brochure”][vc_column][vc_column_text css=””] \nFull Itinerary and Information Brochure\nItinerary to follow\, please check back soon.[/vc_column_text][/vc_column][/vc_row][vc_row][vc_column width=”1/3″][vc_single_image image=”30541″ img_size=”full”][/vc_column][vc_column width=”1/3″][vc_single_image image=”30548″ img_size=”full” css=””][/vc_column][vc_column width=”1/3″][vc_single_image image=”30539″ img_size=”full” css=””][/vc_column][/vc_row][vc_row theme_background=”theme-row theme-stroked-edge” full_width=”stretch_row” equal_height=”yes” css=”.vc_custom_1773831960895{margin-bottom: 0px !important;background-color: #D3EFED !important;}”][vc_column][vc_column_text css=””] \nPayment options\n[/vc_column_text][vc_row_inner][vc_column_inner width=”1/2″][vc_column_text css=””] \n Sponsorship option\nPay a registration fee of £390\, then fundraise £3\,500 for Acorns. By signing up\, you are committing to raising a minimum of £3\,500. Part of this amount is used to cover the cost of your trip. \nPlease read the full terms and conditions before signing up to the event.[/vc_column_text]\n		\n            Book now                    \n\n	[vc_empty_space][vc_column_text css=””] \nFlexi option\nPay a registration fee of £390 plus trip costs of £2\,040*\, then fundraise £1\,460 for Acorns. By signing up\, you are committing to raising a minimum of £1\,460. \nOur expert Events team will be on hand to support you with your fundraising to help you achieve your target. \n*Trip cost balance is payable to Acorns Children’s Hospice by 18 June 2027. \nPlease read the full terms and conditions before signing up to the event.[/vc_column_text]\n		\n            Book now                    \n\n	[vc_empty_space][/vc_column_inner][vc_column_inner width=”1/2″][vc_single_image image=”30545″ img_size=”600″ alignment=”center” css=””][/vc_column_inner][/vc_row_inner][/vc_column][/vc_row][vc_row equal_height=”yes” css=”.vc_custom_1743514861545{background-color: #FFFFFF !important;}”][vc_column][vc_row_inner][vc_column_inner][vc_column_text css=””] \nTake a look at the Alps Trek in photos!\n[/vc_column_text][/vc_column_inner][/vc_row_inner][vc_row_inner][vc_column_inner width=”1/4″][/vc_column_inner][vc_column_inner width=”1/2″][vc_gallery interval=”3″ images=”30544\,30543\,30542\,30541\,30540\,30539\,30538\,30537\,30549\,30548\,30545″ img_size=”full” css=””][/vc_column_inner][/vc_row_inner][/vc_column][/vc_row][vc_row el_id=”faq”][vc_column][vc_row_inner content_placement=”middle”][vc_column_inner][vc_separator][vc_empty_space height=”10px”][vc_column_text] \nFrequently Asked Questions\n[/vc_column_text][vc_toggle title=”What’s included in the price?” style=”round” color=”green” size=”lg” css=”.vc_custom_1773831791913{border-top-width: 5px !important;border-right-width: 5px !important;border-bottom-width: 5px !important;border-left-width: 5px !important;padding-top: 15px !important;padding-right: 15px !important;padding-bottom: 15px !important;padding-left: 15px !important;background-color: #ecf3da !important;border-radius: 10px !important;}”] \n\nReturn flights from London (inc. current taxes and fuel surcharges)\nTransfers and transport in Geneva\nAccommodation in hotels\, chalets & refuges (4 nights)\nMeal as specified in the brochure\nLocal guides\nUK Different Travel tour manager\nDedicated Acorns staff representative to accompany you on the trek\n\n[/vc_toggle][vc_toggle title=”What’s not included in the price?” style=”round” color=”sandy_brown” size=”lg” css=”.vc_custom_1773309249524{border-top-width: 5px !important;border-right-width: 5px !important;border-bottom-width: 5px !important;border-left-width: 5px !important;padding-top: 15px !important;padding-right: 15px !important;padding-bottom: 15px !important;padding-left: 15px !important;background-color: #ffe3d1 !important;border-radius: 10px !important;}”] \n\nTravel insurance\nTips (approx. £50 per person)\nPersonal expenses (e.g. drinks\, souvenirs\, etc.)\nVaccinations\nTrek kit and equipment\n\n[/vc_toggle][vc_toggle title=”What time are the flights?” style=”round” color=”purple” size=”lg” css=”.vc_custom_1773309577590{border-top-width: 5px !important;border-right-width: 5px !important;border-bottom-width: 5px !important;border-left-width: 5px !important;padding-top: 15px !important;padding-right: 15px !important;padding-bottom: 15px !important;padding-left: 15px !important;background-color: #eedceb !important;border-radius: 10px !important;}”]Please be aware that flights will depart from London. Different Travel seek the cheapest possible flights to ensure that as much fundraising as possible goes towards funding our vital care and support for local children and families at Acorns Children’s Hospice. You will need to organise your own transport to the airport. \nExact flight times will be confirmed at a later date. Outbound flights from the UK to Geneva will be on 10th September 2027\, return flights to London on 14th September 2027.[/vc_toggle][vc_toggle title=”Who accompanies us?” style=”round” color=”blue” size=”lg” css=”.vc_custom_1773309590921{border-top-width: 5px !important;border-right-width: 5px !important;border-bottom-width: 5px !important;border-left-width: 5px !important;padding-top: 15px !important;padding-right: 15px !important;padding-bottom: 15px !important;padding-left: 15px !important;background-color: #d3efed !important;border-radius: 10px !important;}”]You will be accompanied by local guides who have an excellent knowledge of hiking in the region. The guides are first aid trained and will support you throughout your journey. You will also be accompanied by a Different Travel Company UK tour manager and Acorns staff representative(s).[/vc_toggle][vc_toggle title=”How tough is the terrain?” style=”round” color=”green” size=”lg” css=”.vc_custom_1773309870673{border-top-width: 5px !important;border-right-width: 5px !important;border-bottom-width: 5px !important;border-left-width: 5px !important;padding-top: 15px !important;padding-right: 15px !important;padding-bottom: 15px !important;padding-left: 15px !important;background-color: #ecf3da !important;border-radius: 10px !important;}”]The terrain will vary but in general you will trek on well-maintained trekking trails across rolling green hills\, on stony trails next to gushing rivers\, and a few small sections on paved roads. You will also pass through beautiful pine forests where there may be uneven terrain and tree roots to watch out for\, or cross small streams using stepping stones. \nThere are steep sections\, so it is important that you have trained on hills in advance of departure.[/vc_toggle][vc_toggle title=”What will the climate be like?” style=”round” color=”sandy_brown” size=”lg” css=”.vc_custom_1773309899918{border-top-width: 5px !important;border-right-width: 5px !important;border-bottom-width: 5px !important;border-left-width: 5px !important;padding-top: 15px !important;padding-right: 15px !important;padding-bottom: 15px !important;padding-left: 15px !important;background-color: #ffe3d1 !important;border-radius: 10px !important;}”]The climate is unpredictable in alpine regions but in general\, the temperature will range from 20-25°C during the day and 10-20°C at night. Weather conditions will vary but in general you will experience sunny\, clear days with a small chance of rain. \nAs you ascend into more open and exposed areas of the mountains there may be very cold winds so having a suitable waterproof jacket and warm mid layer is important. \nPlease note: the temperatures and conditions above are historically accurate but climate change can impact the seasons so you may experience uncharacteristic conditions during the trip which are out of our control. \nThe guides will assess the situation and make decisions to ensure the best enjoyment and safety of the group.[/vc_toggle][vc_toggle title=”Will we be trekking at high altitude?” style=”round” color=”purple” size=”lg” css=”.vc_custom_1773309939029{border-top-width: 5px !important;border-right-width: 5px !important;border-bottom-width: 5px !important;border-left-width: 5px !important;padding-top: 15px !important;padding-right: 15px !important;padding-bottom: 15px !important;padding-left: 15px !important;background-color: #eedceb !important;border-radius: 10px !important;}”]The maximum altitude reached on the trek is 2537m at Grand Col Ferret. The average altitude is 1500m. When you ascend to higher altitudes it may make the trek feel more demanding than if it were at sea level\, but your risk of altitude sickness is very low.[/vc_toggle][vc_toggle title=”What is the accommodation like and who will I share with?” style=”round” color=”blue” size=”lg” css=”.vc_custom_1773309983854{border-top-width: 5px !important;border-right-width: 5px !important;border-bottom-width: 5px !important;border-left-width: 5px !important;padding-top: 15px !important;padding-right: 15px !important;padding-bottom: 15px !important;padding-left: 15px !important;background-color: #d3efed !important;border-radius: 10px !important;}”]Before the trek you will stay in a hotel near Courmayeur on a twin-share basis with en-suite facilities. During the trek you will stay in basic chalet and mountain refuges in mixed dormitories. Basic bedding is provided in the refuges\, but you may wish to bring a sleeping bag liner for your own peace of mind and comfort.[/vc_toggle][vc_toggle title=”What will the food be like?” style=”round” color=”green” size=”lg” css=”.vc_custom_1773310007416{border-top-width: 5px !important;border-right-width: 5px !important;border-bottom-width: 5px !important;border-left-width: 5px !important;padding-top: 15px !important;padding-right: 15px !important;padding-bottom: 15px !important;padding-left: 15px !important;background-color: #ecf3da !important;border-radius: 10px !important;}”]Breakfast\, lunch and dinner are provided throughout the trip as per the itinerary. Breakfast will be typical continental style with items such as cheese\, ham\, fruit\, bread and pastries\, and served with tea and coffee. \nYou will have a picnic lunch each day and the food items will be shared out in the morning to be carried by the group. A typical lunch may include fruit\, cured meat\, cheese\, bread and salad. \nDinners will be taken at the refuge and you will be served a set ‘Menu of the Day’ with soup and salad with bread to start\, a main dish and a dessert. Bread and cheese will feature highly in your meals! Please inform us in advance if you have any dietary requirements or preferences.[/vc_toggle][vc_toggle title=”Who can take part?” style=”round” color=”sandy_brown” size=”lg” css=”.vc_custom_1773747414079{border-top-width: 5px !important;border-right-width: 5px !important;border-bottom-width: 5px !important;border-left-width: 5px !important;padding-top: 15px !important;padding-right: 15px !important;padding-bottom: 15px !important;padding-left: 15px !important;background-color: #ffe3d1 !important;border-radius: 10px !important;}”]You must be aged 18 or above to take part in the trek unaccompanied. It may be possible for you to participate if you are aged 16 or 17 years old if you are accompanied by a parent or guardian – please contact us for advice.[/vc_toggle][vc_toggle title=”How fit do I need to be?” style=”round” color=”purple” size=”lg” css=”.vc_custom_1773310121910{border-top-width: 5px !important;border-right-width: 5px !important;border-bottom-width: 5px !important;border-left-width: 5px !important;padding-top: 15px !important;padding-right: 15px !important;padding-bottom: 15px !important;padding-left: 15px !important;background-color: #eedceb !important;border-radius: 10px !important;}”]You should have a good level of fitness to ensure fast recovery from each day of trekking. \nYou must engage in training (including plenty of walking up and down hills) before departure to ensure your best chance of enjoyment on the trip. This could include hill walking\, running\, cycling\, gym workouts\, boot camps\, etc. \nYou can download a number of free apps to help you train and track your progress e.g. MapMyWalk\, C25K\, MyFitnessPal etc. Attempting to complete the trek without training will make it more challenging than necessary and will be detrimental to your experience\, and the experience of your teammates.[/vc_toggle][vc_toggle title=”What if I am unwell during the trek?” style=”round” color=”blue” size=”lg” css=”.vc_custom_1773310152259{border-top-width: 5px !important;border-right-width: 5px !important;border-bottom-width: 5px !important;border-left-width: 5px !important;padding-top: 15px !important;padding-right: 15px !important;padding-bottom: 15px !important;padding-left: 15px !important;background-color: #d3efed !important;border-radius: 10px !important;}”]If you are unwell or injured\, and unable to join the group for the trek\, arrangements will be made for you to travel with the support crew. Please note that the transport will be at a personal cost to you.[/vc_toggle][vc_toggle title=”Suggested kit list?” style=”round” color=”green” size=”lg” css=”.vc_custom_1773747375124{border-top-width: 5px !important;border-right-width: 5px !important;border-bottom-width: 5px !important;border-left-width: 5px !important;padding-top: 15px !important;padding-right: 15px !important;padding-bottom: 15px !important;padding-left: 15px !important;background-color: #ecf3da !important;border-radius: 10px !important;}”]Adventure Travel Kit Lists | Different Travel[/vc_toggle][/vc_column_inner][/vc_row_inner][/vc_column][/vc_row][vc_row][vc_column][vc_separator][vc_row_inner][vc_column_inner][vc_column_text css=””] \nKick start your fundraising\nWe’re here to support you all the way! By signing up for the event you will receive support from our Events team to help with your training and fundraising and the amazing feeling you’ll get from knowing you’re making a real difference to local children! Here are some simple ways to give your fundraising a boost\, if you need more support we’d be happy to help. Just get in touch at events@acorns.org.uk.[/vc_column_text][/vc_column_inner][/vc_row_inner][vc_row_inner equal_height=”yes” content_placement=”middle” gap=”30″][vc_column_inner width=”1/3″]\n\n    \n        \n                    \n        \n            JustGiving page\nCreate your fundraising page and start sharing it with family and friends. \n            \n				Set up a Just Giving page            \n        \n    \n\n\n	[/vc_column_inner][vc_column_inner width=”1/3″]\n\n    \n        \n                    \n        \n            Sponsorship form\nPrefer to collect offline donations? Download a sponsorship form to support your fundraising. \n            \n				Download a sponsorship form            \n        \n    \n\n\n	[/vc_column_inner][vc_column_inner width=”1/3″]\n\n    \n        \n                    \n        \n            Fundraising pack\nGet ideas\, tips and resources to help you promote your challenge and raise money. \n            \n				Download fundraising pack            \n        \n    \n\n\n	[/vc_column_inner][/vc_row_inner][/vc_column][/vc_row][vc_row][vc_column][vc_column_text] \nEvent details\n[/vc_column_text][/vc_column][/vc_row]
URL:https://www.acorns.org.uk/acornsevent/acorns-trek-the-alps-2027/
CATEGORIES:Challenges,International,Treks
ATTACH;FMTTYPE=image/png:https://www.acorns.org.uk/wp-content/uploads/2026/03/Trek-the-Alps-8.png
END:VEVENT
END:VCALENDAR