BEGIN:VCALENDAR
VERSION:2.0
PRODID:-//Acorns Children&rsquo;s Hospice - ECPv6.15.17.1//NONSGML v1.0//EN
CALSCALE:GREGORIAN
METHOD:PUBLISH
X-WR-CALNAME:Acorns Children&rsquo;s Hospice
X-ORIGINAL-URL:https://www.acorns.org.uk
X-WR-CALDESC:Events for Acorns Children&rsquo;s Hospice
REFRESH-INTERVAL;VALUE=DURATION:PT1H
X-Robots-Tag:noindex
X-PUBLISHED-TTL:PT1H
BEGIN:VTIMEZONE
TZID:Europe/London
BEGIN:DAYLIGHT
TZOFFSETFROM:+0000
TZOFFSETTO:+0100
TZNAME:BST
DTSTART:20250330T010000
END:DAYLIGHT
BEGIN:STANDARD
TZOFFSETFROM:+0100
TZOFFSETTO:+0000
TZNAME:GMT
DTSTART:20251026T010000
END:STANDARD
BEGIN:DAYLIGHT
TZOFFSETFROM:+0000
TZOFFSETTO:+0100
TZNAME:BST
DTSTART:20260329T010000
END:DAYLIGHT
BEGIN:STANDARD
TZOFFSETFROM:+0100
TZOFFSETTO:+0000
TZNAME:GMT
DTSTART:20261025T010000
END:STANDARD
BEGIN:DAYLIGHT
TZOFFSETFROM:+0000
TZOFFSETTO:+0100
TZNAME:BST
DTSTART:20270328T010000
END:DAYLIGHT
BEGIN:STANDARD
TZOFFSETFROM:+0100
TZOFFSETTO:+0000
TZNAME:GMT
DTSTART:20271031T010000
END:STANDARD
END:VTIMEZONE
BEGIN:VEVENT
DTSTART;VALUE=DATE:20260124
DTEND;VALUE=DATE:20260126
DTSTAMP:20260424T065916
CREATED:20251110T145851Z
LAST-MODIFIED:20251223T163923Z
UID:10000120-1769212800-1769385599@www.acorns.org.uk
SUMMARY:London Winter Walk
DESCRIPTION:[vc_row gap=”15″ css=”.vc_custom_1766507950461{background-color: #EEDCEB !important;border-radius: 20px !important;}”][vc_column][vc_row_inner][vc_column_inner][vc_column_text css=””] \nSign ups are now closed\nThank you for your interest in the London Winter Walk\, sign ups for the event are now closed. If you are interest in taking part in other events for Acorns\, please see our full events calendar.[/vc_column_text][/vc_column_inner][/vc_row_inner][/vc_column][/vc_row][vc_row gap=”15″ disable_element=”yes” css=”.vc_custom_1766507956756{background-color: #EEDCEB !important;border-radius: 20px !important;}”][vc_column][vc_row_inner][vc_column_inner width=”1/3″][vc_column_text css=””]Date: 24th or 25th January 2026\nLocation: London[/vc_column_text][/vc_column_inner][vc_column_inner width=”1/3″][vc_column_text css=””]Entry: £20 – £99\nSponsorship: £0 – £300\nOrganiser: Ultra Challenge[/vc_column_text][/vc_column_inner][vc_column_inner width=”1/3″][vc_column_text css=””]Contact: Acorns Events team\nTelephone: 01564 825037[/vc_column_text][/vc_column_inner][/vc_row_inner][/vc_column][/vc_row][vc_row][vc_column][vc_row_inner][vc_column_inner width=”2/3″][vc_column_text css=””] \nJoin the London Winter Walk this January\nA great event to wrap up and walk off the Christmas & New Year celebrations; maybe kick start a new fitness regime – and to fundraise for your favourite charity! \nThere are Full Marathon\, Half Marathon and 10km distance options – and an accessible ‘Family Fun 5K’ on the Sunday. \nAll routes start and finish at The Oval Cricket Ground\, and take in highlights of the Thames\, its historic bridges and many of the Capital’s landmarks. Sign up as a team\, or as an individual and families are welcome. There’s rest stops with snacks and drinks\, a special medal\, and hot food back at the finish before you head home.[/vc_column_text][/vc_column_inner][vc_column_inner width=”1/3″][vc_single_image image=”26084″ img_size=”Full” css=””][/vc_column_inner][/vc_row_inner][/vc_column][/vc_row][vc_row theme_background=”theme-row theme-stroked-edge” full_width=”stretch_row” disable_element=”yes” css=”.vc_custom_1764670619337{background-color: #EEDCEB !important;}”][vc_column][vc_row_inner][vc_column_inner][vc_column_text css=””] \nEarly Bird Deal\nSign up before 30th November 2025 to get 50% OFF the registration fee and a FREE Winter Walk bobble hat – sign up today and start your year making a difference! \nUse code: 50%CHARITY at the checkout.[/vc_column_text][/vc_column_inner][/vc_row_inner][/vc_column][/vc_row][vc_row][vc_column][vc_row_inner][vc_column_inner width=”1/3″][vc_single_image image=”26425″ img_size=”full” css=””][/vc_column_inner][vc_column_inner width=”1/3″][vc_single_image image=”26423″ img_size=”full” css=””][/vc_column_inner][vc_column_inner width=”1/3″][vc_single_image image=”26424″ img_size=”full” css=””][/vc_column_inner][/vc_row_inner][/vc_column][/vc_row]
URL:https://www.acorns.org.uk/acornsevent/ucs-london-winter-walk/
LOCATION:City of London\, London\, London\, United Kingdom
CATEGORIES:Challenges,Running
ATTACH;FMTTYPE=image/png:https://www.acorns.org.uk/wp-content/uploads/2025/11/USC-Winter-Walk-1.png
GEO:51.5072178;-0.1275862
END:VEVENT
END:VCALENDAR