BEGIN:VCALENDAR
VERSION:2.0
PRODID:-//Acorns Children&rsquo;s Hospice - ECPv6.15.17.1//NONSGML v1.0//EN
CALSCALE:GREGORIAN
METHOD:PUBLISH
X-WR-CALNAME:Acorns Children&rsquo;s Hospice
X-ORIGINAL-URL:https://www.acorns.org.uk
X-WR-CALDESC:Events for Acorns Children&rsquo;s Hospice
REFRESH-INTERVAL;VALUE=DURATION:PT1H
X-Robots-Tag:noindex
X-PUBLISHED-TTL:PT1H
BEGIN:VTIMEZONE
TZID:Europe/London
BEGIN:DAYLIGHT
TZOFFSETFROM:+0000
TZOFFSETTO:+0100
TZNAME:BST
DTSTART:20250330T010000
END:DAYLIGHT
BEGIN:STANDARD
TZOFFSETFROM:+0100
TZOFFSETTO:+0000
TZNAME:GMT
DTSTART:20251026T010000
END:STANDARD
BEGIN:DAYLIGHT
TZOFFSETFROM:+0000
TZOFFSETTO:+0100
TZNAME:BST
DTSTART:20260329T010000
END:DAYLIGHT
BEGIN:STANDARD
TZOFFSETFROM:+0100
TZOFFSETTO:+0000
TZNAME:GMT
DTSTART:20261025T010000
END:STANDARD
BEGIN:DAYLIGHT
TZOFFSETFROM:+0000
TZOFFSETTO:+0100
TZNAME:BST
DTSTART:20270328T010000
END:DAYLIGHT
BEGIN:STANDARD
TZOFFSETFROM:+0100
TZOFFSETTO:+0000
TZNAME:GMT
DTSTART:20271031T010000
END:STANDARD
END:VTIMEZONE
BEGIN:VEVENT
DTSTART;VALUE=DATE:20260207
DTEND;VALUE=DATE:20260329
DTSTAMP:20260424T053608
CREATED:20260202T093058Z
LAST-MODIFIED:20260217T092004Z
UID:10000131-1770422400-1774742399@www.acorns.org.uk
SUMMARY:Bevere Gallery Charity Prize Draw
DESCRIPTION:[vc_row gap=”15″ css=”.vc_custom_1727967005758{background-color: #ecf3da !important;border-radius: 20px !important;}”][vc_column][vc_row_inner][vc_column_inner width=”1/3″][vc_column_text css=””]Date: 7th February to 28th March 2026\nLocation: Bevere Gallery and Artist Studios\, WR3 7RQ[/vc_column_text][/vc_column_inner][vc_column_inner width=”1/3″][vc_column_text css=””]Price: Free entry[/vc_column_text][/vc_column_inner][vc_column_inner width=”1/3″][vc_column_text css=””]Email: kim@beveregallery.com \nPlease note: this event is in support of Acorns\, this is not an Acorns led event[/vc_column_text][/vc_column_inner][/vc_row_inner][/vc_column][/vc_row][vc_row][vc_column][vc_row_inner][vc_column_inner][vc_column_text css=””] \nExperience the beauty of art and the power of giving at the Bevere Gallery charity prize draw\nCome along to the Bevere Gallery between 7th February and 28th March to enter in the charity prize draw by making a donation to Acorns Children’s Hospice and Worcester Breast Unit Haven. You’ll be in for a chance to win one of seven original pieces of art\, generously donated by the Resident Artists and the Ceramics Gallery. \nDonations can only be made whilst at the Bevere Gallery\, either in cash in collection tins or digitally on a phone via a QR code. All donations will raised will go directly to both charities. \nThe draw will take place on Saturday 28 March at 2pm (winners – or their representatives – must be in attendance with winning tickets).[/vc_column_text][/vc_column_inner][/vc_row_inner][/vc_column][/vc_row][vc_row][vc_column][vc_row_inner][vc_column_inner][vc_column_text css=””] \nTake a look at some of the prizes:\n[/vc_column_text][/vc_column_inner][/vc_row_inner][vc_row_inner][vc_column_inner width=”1/3″][vc_single_image image=”29146″ img_size=”full” add_caption=”yes” css=””][/vc_column_inner][vc_column_inner width=”1/3″][vc_single_image image=”29147″ img_size=”full” add_caption=”yes” css=””][/vc_column_inner][vc_column_inner width=”1/3″][vc_single_image image=”29144″ img_size=”full” add_caption=”yes” css=””][/vc_column_inner][/vc_row_inner][vc_row_inner][vc_column_inner width=”1/3″][vc_single_image image=”29143″ img_size=”full” add_caption=”yes” css=””][/vc_column_inner][vc_column_inner width=”1/3″][vc_single_image image=”29142″ img_size=”full” add_caption=”yes” css=””][/vc_column_inner][vc_column_inner width=”1/3″][vc_single_image image=”29141″ img_size=”full” add_caption=”yes” css=””][/vc_column_inner][/vc_row_inner][vc_row_inner][vc_column_inner width=”1/3″][/vc_column_inner][vc_column_inner width=”1/3″][vc_single_image image=”29799″ img_size=”full” add_caption=”yes” css=””][/vc_column_inner][vc_column_inner width=”1/3″][/vc_column_inner][/vc_row_inner][/vc_column][/vc_row][vc_row][vc_column][vc_separator el_id=”add-calendar”][vc_column_text] \nEvent details\n[/vc_column_text][/vc_column][/vc_row]
URL:https://www.acorns.org.uk/acornsevent/charity-art-prize-draw/
LOCATION:Bevere Gallery and Artist Studios\, WR3 7RQ\, United Kingdom
CATEGORIES:Community events
ATTACH;FMTTYPE=image/png:https://www.acorns.org.uk/wp-content/uploads/2026/01/Berve-Gallery.png
GEO:55.378051;-3.435973
END:VEVENT
BEGIN:VEVENT
DTSTART;TZID=Europe/London:20260208T090000
DTEND;TZID=Europe/London:20260208T130000
DTSTAMP:20260424T053608
CREATED:20241120T142428Z
LAST-MODIFIED:20251223T094620Z
UID:10000060-1770541200-1770555600@www.acorns.org.uk
SUMMARY:Birmingham Running Festival (February)
DESCRIPTION:[vc_row gap=”15″ css=”.vc_custom_1713275358370{background-color: #eedceb !important;border-radius: 20px !important;}”][vc_column][vc_row_inner][vc_column_inner width=”1/3″][vc_column_text css=””]Date: 8th February 2026\nStart time: 9am\nLocation: Sutton Park\, Park Road\, Sutton Coldfield\, B73 6BT[/vc_column_text][/vc_column_inner][vc_column_inner width=”1/3″][vc_column_text css=””]Entry price: £10\nSponsorship: £100 – £250\nOrganiser: Run Through[/vc_column_text][/vc_column_inner][vc_column_inner width=”1/3″][vc_column_text css=””]Contact: Acorns Events team\nTelephone: 01564 825037[/vc_column_text][/vc_column_inner][/vc_row_inner][/vc_column][/vc_row][vc_row content_placement=”middle”][vc_column]\n		\n            Sign up today                    \n\n	[vc_empty_space][vc_column_text css=”.vc_custom_1766161673608{margin-bottom: 0px !important;}”] \nTake on the February edition of the Birmingham Running Festival!\nEnjoy a refreshing run through the peaceful woodlands and open parkland in the historic venue of beautiful Sutton Park\, a 2\,400 acre National Nature Reserve in Birmingham.  \nEach kilometre is accurately marked with distance flags and the friendly Run Through marshals will guide and cheer you all the way to the finish.  \nIncluded in your entry fee as part of #TeamAcorns is a themed medal\, water and post-race goodies. Come and enjoy the day with #TeamAcorns! [/vc_column_text][/vc_column][/vc_row][vc_row theme_background=”theme-row theme-stroked-edge” full_width=”stretch_row” content_placement=”middle” css=”.vc_custom_1726839922364{background-color: #eedceb !important;}”][vc_column width=”1/2″][vc_column_text css=”.vc_custom_1766481650064{margin-bottom: 0px !important;}”] \nSign up to join #TeamAcorns\nBy joining #TeamAcorns you’ll be raising money for life limited and life threatened babies\, children\, and young people across the West Midlands and receive:  \n\nAn Acorns running vest \n\n\nBespoke support from our specialist Events team to help with your training and fundraising \n\n\nA fundraising pack with ideas to help you meet your fundraising target \n\n\nA unique themed medal \n\n\nChip time results \n\n\nPost race goodies \n\n\nFree official race photos \n\n[/vc_column_text][/vc_column][vc_column width=”1/2″][vc_single_image image=”28313″ img_size=”full” css=”.vc_custom_1766161629212{margin-bottom: 0px !important;}”][/vc_column][/vc_row][vc_row theme_background=”theme-row theme-stroked-edge” full_width=”stretch_row” css=”.vc_custom_1726839516824{background-color: #d3efed !important;}” el_id=”signup-bhamrun”][vc_column][vc_column_text css=””] \nSign up today\n[/vc_column_text][vc_row_inner gap=”20″][vc_column_inner width=”1/3″ css=”.vc_custom_1703681956115{border: 4px dashed #bf71a4 !important;border-radius: 15px !important;}”][vc_column_text css=””] \nRun in the 5k\nRegistration fee: £10 \nMinimum sponsorship: £100* \n[/vc_column_text]\n		\n            Sign up                    \n\n	[vc_empty_space height=”10px”][/vc_column_inner][vc_column_inner width=”1/3″ css=”.vc_custom_1703681869243{border: 4px dashed #bf71a4 !important;border-radius: 15px !important;}”][vc_column_text css=””] \nRun in the 10k\nRegistration fee: £10 \nMinimum sponsorship: £150* \n[/vc_column_text]\n		\n            Sign up                    \n\n	[vc_empty_space height=”10px”][/vc_column_inner][vc_column_inner width=”1/3″ css=”.vc_custom_1703683406279{border-top-width: 4px !important;border-right-width: 4px !important;border-bottom-width: 4px !important;border-left-width: 4px !important;border-left-color: #bf71a4 !important;border-left-style: dashed !important;border-right-color: #bf71a4 !important;border-right-style: dashed !important;border-top-color: #bf71a4 !important;border-top-style: dashed !important;border-bottom-color: #bf71a4 !important;border-bottom-style: dashed !important;border-radius: 15px !important;}”][vc_column_text css=””] \nRun in the Half Marathon\nRegistration fee: £10 \nMinimum sponsorship: £250* \n[/vc_column_text]\n		\n            Sign up                    \n\n	[vc_empty_space height=”10px”][/vc_column_inner][/vc_row_inner][vc_column_text css=””]*50% of this your fundraising must be raised one month before the event (8 January 2026). Failure to do this may result in you losing your running place. \n25% of this sponsorship must be raised one week before the event (1 February  2026). \nThe remaining 25% of this sponsorship must be received by Acorns no later than one week after the event date (15 February 2026).[/vc_column_text][/vc_column][/vc_row][vc_row equal_height=”yes”][vc_column][vc_column_text] \nAlready have a place in the race?\nIf you already have a place\, you can still join #TeamAcorns and help to raise funds for local children and families. Our events team will be on hand to support you throughout.[/vc_column_text]\n		\n            I have a place                    \n\n	[vc_empty_space height=”15px”][/vc_column][/vc_row][vc_row][vc_column][vc_row_inner content_placement=”middle”][vc_column_inner][vc_column_text] \nKick start your fundraising\nWe’re here to support you all the way! By signing up for the event you will receive an Acorns running vest\, support from our Events team to help with your training and fundraising and the amazing feeling you’ll get from knowing you’re making a real difference to local children! Here are some simple ways to give your fundraising a boost\, if you need more support we’d be happy to help. Just get in touch at events@acorns.org.uk.[/vc_column_text][/vc_column_inner][vc_column_inner width=”1/3″][vc_single_image image=”749″ img_size=”600×600″ alignment=”center” onclick=”custom_link” css=”” link=”https://www.justgiving.com/acorns”][vc_column_text] \nSet up a JustGiving page \n[/vc_column_text][/vc_column_inner][vc_column_inner width=”1/3″][vc_single_image image=”748″ img_size=”600×600″ alignment=”center” onclick=”custom_link” css=”” link=”https://www.acorns.org.uk/wp-content/uploads/2023/12/Sponsorship-form-2025_WEB-1.pdf”][vc_column_text] \nGet a sponsorship form \n[/vc_column_text][/vc_column_inner][vc_column_inner width=”1/3″][vc_single_image image=”747″ img_size=”600×600″ alignment=”center” onclick=”custom_link” css=”” link=”https://www.acorns.org.uk/wp-content/uploads/2023/12/Your-Guide-to-Fundraising-2024_WEB_FINAL-1.pdf”][vc_column_text] \nDownload a fundraising pack \n[/vc_column_text][/vc_column_inner][/vc_row_inner][/vc_column][/vc_row][vc_row theme_background=”theme-row theme-stroked-edge” full_width=”stretch_row” el_id=”ihaveaplace-bhamrunning” css=”.vc_custom_1733918223738{background: #eedceb url(https://www.acorns.org.uk/wp-content/uploads/2023/12/patterns-purple-stars.png?id=2237) !important;}”][vc_column css=”.vc_custom_1728999550292{background-color: #ffffff !important;}”][vc_column_text css=”.vc_custom_1728999563220{background-color: #ffffff !important;}”] \nI already have a place!\nIf you already have a place in the Birmingham Running Festival and would like to support Acorns through your run\, please fill out the form below and one of our team will be in touch soon.[/vc_column_text]\n	Notice: JavaScript is required for this content.\n\n\n    \n\n\n        \n        \n                \n\n        \n\n        [/vc_column][/vc_row][vc_row][vc_column][vc_separator el_id=”add-calendar”][vc_column_text] \nAdd this event to your calendar\n[/vc_column_text][/vc_column][/vc_row]
URL:https://www.acorns.org.uk/acornsevent/birmingham-running-festival-february/
LOCATION:Sutton Park\, Park Rd\, The Royal Town of Sutton Coldfield\, B74 2YT\, United Kingdom
CATEGORIES:Running
ATTACH;FMTTYPE=image/png:https://www.acorns.org.uk/wp-content/uploads/2024/11/Birmingham-Running-Festival-2.png
GEO:52.5641987;-1.8273056
X-APPLE-STRUCTURED-LOCATION;VALUE=URI;X-ADDRESS=Sutton Park Park Rd The Royal Town of Sutton Coldfield B74 2YT United Kingdom;X-APPLE-RADIUS=500;X-TITLE=Park Rd:geo:-1.8273056,52.5641987
END:VEVENT
END:VCALENDAR