BEGIN:VCALENDAR
VERSION:2.0
PRODID:-//Acorns Children&rsquo;s Hospice - ECPv6.15.17.1//NONSGML v1.0//EN
CALSCALE:GREGORIAN
METHOD:PUBLISH
X-WR-CALNAME:Acorns Children&rsquo;s Hospice
X-ORIGINAL-URL:https://www.acorns.org.uk
X-WR-CALDESC:Events for Acorns Children&rsquo;s Hospice
REFRESH-INTERVAL;VALUE=DURATION:PT1H
X-Robots-Tag:noindex
X-PUBLISHED-TTL:PT1H
BEGIN:VTIMEZONE
TZID:Europe/London
BEGIN:DAYLIGHT
TZOFFSETFROM:+0000
TZOFFSETTO:+0100
TZNAME:BST
DTSTART:20250330T010000
END:DAYLIGHT
BEGIN:STANDARD
TZOFFSETFROM:+0100
TZOFFSETTO:+0000
TZNAME:GMT
DTSTART:20251026T010000
END:STANDARD
BEGIN:DAYLIGHT
TZOFFSETFROM:+0000
TZOFFSETTO:+0100
TZNAME:BST
DTSTART:20260329T010000
END:DAYLIGHT
BEGIN:STANDARD
TZOFFSETFROM:+0100
TZOFFSETTO:+0000
TZNAME:GMT
DTSTART:20261025T010000
END:STANDARD
BEGIN:DAYLIGHT
TZOFFSETFROM:+0000
TZOFFSETTO:+0100
TZNAME:BST
DTSTART:20270328T010000
END:DAYLIGHT
BEGIN:STANDARD
TZOFFSETFROM:+0100
TZOFFSETTO:+0000
TZNAME:GMT
DTSTART:20271031T010000
END:STANDARD
END:VTIMEZONE
BEGIN:VEVENT
DTSTART;TZID=Europe/London:20261114T090000
DTEND;TZID=Europe/London:20261115T150000
DTSTAMP:20260424T172344
CREATED:20250425T084306Z
LAST-MODIFIED:20260303T094217Z
UID:10000092-1794646800-1794754800@www.acorns.org.uk
SUMMARY:Run Alton Towers
DESCRIPTION:[vc_row gap=”15″ disable_element=”yes” css=”.vc_custom_1764848608642{background-color: #eedceb !important;border-radius: 20px !important;}”][vc_column][vc_row_inner][vc_column_inner][vc_column_text css=””] \nRegistration is now closed for Run Alton Towers\nThank you for your interest in the Run Alton Towers\, sign ups are now closed. If you are interested in running for Acorns in a different event\, check out our full events calendar.[/vc_column_text][/vc_column_inner][/vc_row_inner][/vc_column][/vc_row][vc_row gap=”15″ css=”.vc_custom_1764848617364{background-color: #eedceb !important;border-radius: 20px !important;}”][vc_column][vc_row_inner][vc_column_inner width=”1/3″][vc_column_text css=””]Date: 14th and 15th November 2026\nStart time: 9am\nLocation: Alton Towers\, Farley Lane\, Alton\, Stoke-on-Trent\, ST10 4DB[/vc_column_text][/vc_column_inner][vc_column_inner width=”1/3″][vc_column_text css=””]Entry: £10\nSponsorship: £50-250\nOrganiser: Run Through[/vc_column_text][/vc_column_inner][vc_column_inner width=”1/3″][vc_column_text css=””]Contact: Acorns Events team\nTelephone: 01564 825037\nPlease read the full terms and conditions before signing up.[/vc_column_text][/vc_column_inner][/vc_row_inner][/vc_column][/vc_row][vc_row][vc_column][vc_column_text css=””] \nRun Alton Towers with #TeamAcorns – race amongst the most iconic rides in Britain\n[/vc_column_text][vc_column_text css=””]Take part in Run Alton Towers\, one of the UK’s most unique and exhilarating running events. Race alongside Britain’s most iconic rides at Alton Towers Resort – the UK’s number one theme park! \nJoin #TeamAcorns for an unforgettable day at Run Alton Towers\, where you’ll lace up your running shoes in a truly legendary setting. Home to record-breaking rollercoasters\, CBeebies Land\, Sharkbait Reef by SEALIFE\, and incredible family attractions\, Alton Towers Resort is the ultimate destination for thrill-seekers and families alike. \nSpanning over 500 acres with 10 fantastically themed areas\, the park is built around the historic Towers\, dating all the way back to 1810 – making this run a one-of-a-kind experience steeped in both fun and history.[/vc_column_text]\n		\n            Sign up today                    \n\n	[/vc_column][/vc_row][vc_row equal_height=”yes” css=”.vc_custom_1765209512521{background-color: #FFFFFF !important;}”][vc_column][vc_row_inner][vc_column_inner width=”1/2″][vc_column_text css=””] \nWhy you should Run Alton Towers with Acorns\nBy signing up\, you’ll enjoy: \n\nFREE theme park entry after the race – unlimited access to all rides and attractions!\n\n\nA chance to challenge yourself – whether you’re improving your fitness or working towards your personal best\, you’ll be raising money for a cause close to your heart.\n\n\nSupport from our expert Events team with your fundraising\, training and more!\n\nEvery step you take supports Acorns\, providing essential care and support to children and families where they need it most.[/vc_column_text]\n		\n            Choose your race                    \n\n	[/vc_column_inner][vc_column_inner width=”1/2″][vc_single_image image=”27625″ img_size=”full” alignment=”center” css=””][/vc_column_inner][/vc_row_inner][/vc_column][/vc_row][vc_row theme_background=”theme-row theme-stroked-edge” full_width=”stretch_row” equal_height=”yes” css=”.vc_custom_1765209522872{background-color: #EEDCEB !important;}”][vc_column][vc_row_inner][vc_column_inner width=”1/6″][/vc_column_inner][vc_column_inner width=”2/3″][vc_video link=”https://youtube.com/shorts/Zl1KqwTTyyA?feature=share” css=””][/vc_column_inner][vc_column_inner width=”1/6″][/vc_column_inner][/vc_row_inner][/vc_column][/vc_row][vc_row equal_height=”yes”][vc_column][vc_row_inner][vc_column_inner][vc_column_text css=””] \nGet involved – Run Alton Towers for Acorns!\n[/vc_column_text][/vc_column_inner][/vc_row_inner][vc_row_inner][vc_column_inner width=”1/2″][vc_column_text css=””]We are thrilled to offer a limited number of race entries this year! To claim yours\, simply commit to a fundraising target to support Acorns. Your charity entry includes: \n\nAn Acorns running vest\n\n\nBespoke support from our specialist Events team to help with your training and fundraising \n\n\nA fundraising pack\, bursting full of the essentials to kick start your fundraising\n\n\nA unique themed medal \n\n\nOfficial chip time results \n\n\nPost race goodies\n\n\nFree official race day photos\n\n[/vc_column_text][/vc_column_inner][vc_column_inner width=”1/2″][vc_single_image image=”27587″ img_size=”full” alignment=”center” css=””][/vc_column_inner][/vc_row_inner][/vc_column][/vc_row][vc_row theme_background=”theme-row theme-stroked-edge” full_width=”stretch_row” css=”.vc_custom_1764855677994{background-color: #d3efed !important;}” el_id=”signup”][vc_column][vc_row_inner gap=”20″][vc_column_inner width=”1/4″ css=”.vc_custom_1703694434497{border: 4px dashed #bf71a4 !important;border-radius: 15px !important;}”][vc_column_text css=””] \nRun in the\n5k\nRegistration fee: £10 \nMinimum fundraising target: £100* \n[/vc_column_text]\n		\n            Sign up                    \n\n	[vc_empty_space height=”10px”][/vc_column_inner][vc_column_inner width=”1/4″ css=”.vc_custom_1703681956115{border: 4px dashed #bf71a4 !important;border-radius: 15px !important;}”][vc_column_text css=””] \nRun in the\n10k\nRegistration fee: £10 \nMinimum fundraising target: £150* \n[/vc_column_text]\n		\n            Sign up                    \n\n	[vc_empty_space height=”10px”][/vc_column_inner][vc_column_inner width=”1/4″ css=”.vc_custom_1703694422370{border-top-width: 4px !important;border-right-width: 4px !important;border-bottom-width: 4px !important;border-left-width: 4px !important;border-left-color: #bf71a4 !important;border-left-style: dashed !important;border-right-color: #bf71a4 !important;border-right-style: dashed !important;border-top-color: #bf71a4 !important;border-top-style: dashed !important;border-bottom-color: #bf71a4 !important;border-bottom-style: dashed !important;border-radius: 15px !important;}”][vc_column_text css=””] \nRun in the\nHalf Marathon\nRegistration fee: £10 \nMinimum fundraising target: £250* \n[/vc_column_text]\n		\n            Sign up                    \n\n	[vc_empty_space height=”10px”][/vc_column_inner][vc_column_inner width=”1/4″ css=”.vc_custom_1721843881433{border-top-width: 4px !important;border-right-width: 4px !important;border-bottom-width: 4px !important;border-left-width: 4px !important;border-left-style: dashed !important;border-right-style: dashed !important;border-top-style: dashed !important;border-bottom-style: dashed !important;border-radius: 15px !important;border-color: #bf71a4 !important;}”][vc_column_text css=””] \nRun in the\nJunior race\nRegistration fee: £10 \nMinimum fundraising target:  £50*  \n[/vc_column_text]\n		\n            Sign up                    \n\n	[vc_empty_space height=”10px”][/vc_column_inner][/vc_row_inner][vc_row_inner][vc_column_inner][vc_column_text css=””]* 50% of this your fundraising must be raised one month before the event (14 October 2026). Failure to do this may result in you losing your running place. \n25% of this sponsorship must be raised one week before the event (7 November 2026). \nThe remaining 25% of this sponsorship must be received by Acorns no later than one week after the event date (21 November 2026). \nFor further details\, please visit the event terms and conditions[/vc_column_text][/vc_column_inner][/vc_row_inner][/vc_column][/vc_row][vc_row][vc_column][vc_column_text css=””] \nAlready have a place in the race?\nIf you already have a place\, you can still join #TeamAcorns and help to raise funds for local children and families. Our Events team will be on hand to support you throughout.[/vc_column_text]\n		\n            I have a place                    \n\n	[/vc_column][/vc_row][vc_row][vc_column][vc_row_inner][vc_column_inner width=”1/3″][vc_single_image image=”27589″ img_size=”full” css=””][/vc_column_inner][vc_column_inner width=”1/3″][vc_single_image image=”27588″ img_size=”full” css=””][/vc_column_inner][vc_column_inner width=”1/3″][vc_single_image image=”27590″ img_size=”full” css=””][/vc_column_inner][/vc_row_inner][/vc_column][/vc_row][vc_row][vc_column][vc_row_inner content_placement=”middle”][vc_column_inner][vc_column_text] \nKick start your fundraising\nWe’re here to support you all the way! By signing up for the event you will receive an Acorns running vest\, support from our Events team to help with your training and fundraising and the amazing feeling you’ll get from knowing you’re making a real difference to local children! Here are some simple ways to give your fundraising a boost\, if you need more support we’d be happy to help. Just get in touch at events@acorns.org.uk.[/vc_column_text][/vc_column_inner][vc_column_inner width=”1/3″][vc_single_image image=”749″ img_size=”medium” alignment=”center” onclick=”custom_link” link=”https://www.justgiving.com/acorns”][vc_column_text] \nSet up a JustGiving page \n[/vc_column_text][/vc_column_inner][vc_column_inner width=”1/3″][vc_single_image image=”748″ img_size=”medium” alignment=”center” onclick=”custom_link” css=”” link=”https://www.acorns.org.uk/wp-content/uploads/2026/03/Sponsorship-form-2026_WEB.pdf”][vc_column_text css=””] \nGet a sponsorship form \n[/vc_column_text][/vc_column_inner][vc_column_inner width=”1/3″][vc_single_image image=”747″ img_size=”medium” alignment=”center” onclick=”custom_link” css=”” link=”https://www.acorns.org.uk/wp-content/uploads/2026/02/Your-Guide-to-Fundraising-2026-FINAL_WEB.pdf”][vc_column_text css=””] \nDownload a fundraising pack \n[/vc_column_text][/vc_column_inner][/vc_row_inner][/vc_column][/vc_row][vc_row theme_background=”theme-row theme-stroked-edge” full_width=”stretch_row” el_id=”ihaveaplace” css=”.vc_custom_1744725775218{background-color: #EEDCEB !important;}”][vc_column][vc_row_inner theme_background=”theme-inner-row theme-stroked-frame” content_placement=”middle” css=”.vc_custom_1744725799833{background-color: #FFFFFF !important;}”][vc_column_inner][vc_column_text css=””] \nI want to join #TeamAcorns\nIf you have secured your place in Run Alton Towers and would like to support Acorns through your run\, please fill out the form below and one of our team will be in touch soon.[/vc_column_text]\n	Notice: JavaScript is required for this content.\n\n\n    \n\n\n        \n        \n                \n\n        \n\n        [/vc_column_inner][/vc_row_inner][/vc_column][/vc_row][vc_row][vc_column][vc_column_text] \nEvent details\n[/vc_column_text][/vc_column][/vc_row]
URL:https://www.acorns.org.uk/acornsevent/run-alton-towers/
LOCATION:Alton Towers\, Farley Lane\, Stoke on Trent\, ST10 4DB\, United Kingdom
CATEGORIES:Running
ATTACH;FMTTYPE=image/png:https://www.acorns.org.uk/wp-content/uploads/2025/04/Run-Alton-Towers-4.png
GEO:52.9873229;-1.8980007
X-APPLE-STRUCTURED-LOCATION;VALUE=URI;X-ADDRESS=Alton Towers Farley Lane Stoke on Trent ST10 4DB United Kingdom;X-APPLE-RADIUS=500;X-TITLE=Farley Lane:geo:-1.8980007,52.9873229
END:VEVENT
END:VCALENDAR