BEGIN:VCALENDAR
VERSION:2.0
PRODID:-//Acorns Children&rsquo;s Hospice - ECPv6.15.17.1//NONSGML v1.0//EN
CALSCALE:GREGORIAN
METHOD:PUBLISH
X-ORIGINAL-URL:https://www.acorns.org.uk
X-WR-CALDESC:Events for Acorns Children&rsquo;s Hospice
REFRESH-INTERVAL;VALUE=DURATION:PT1H
X-Robots-Tag:noindex
X-PUBLISHED-TTL:PT1H
BEGIN:VTIMEZONE
TZID:Europe/London
BEGIN:DAYLIGHT
TZOFFSETFROM:+0000
TZOFFSETTO:+0100
TZNAME:BST
DTSTART:20230326T010000
END:DAYLIGHT
BEGIN:STANDARD
TZOFFSETFROM:+0100
TZOFFSETTO:+0000
TZNAME:GMT
DTSTART:20231029T010000
END:STANDARD
BEGIN:DAYLIGHT
TZOFFSETFROM:+0000
TZOFFSETTO:+0100
TZNAME:BST
DTSTART:20240331T010000
END:DAYLIGHT
BEGIN:STANDARD
TZOFFSETFROM:+0100
TZOFFSETTO:+0000
TZNAME:GMT
DTSTART:20241027T010000
END:STANDARD
BEGIN:DAYLIGHT
TZOFFSETFROM:+0000
TZOFFSETTO:+0100
TZNAME:BST
DTSTART:20250330T010000
END:DAYLIGHT
BEGIN:STANDARD
TZOFFSETFROM:+0100
TZOFFSETTO:+0000
TZNAME:GMT
DTSTART:20251026T010000
END:STANDARD
END:VTIMEZONE
BEGIN:VEVENT
DTSTART;TZID=Europe/London:20240314T123000
DTEND;TZID=Europe/London:20240314T143000
DTSTAMP:20260424T193537
CREATED:20240119T125521Z
LAST-MODIFIED:20240313T124301Z
UID:10000020-1710419400-1710426600@www.acorns.org.uk
SUMMARY:Acorns Business Club - Who will take Pole Position?
DESCRIPTION:[vc_row full_width=”stretch_row” css=”.vc_custom_1706700495779{padding-top: 35px !important;padding-bottom: 35px !important;background-color: #fdeed5 !important;}”][vc_column width=”4/12″ css=”.vc_custom_1704799613449{padding-top: 0px !important;}” offset=”vc_col-md-3″]\n		\n            Back to business & networking                    \n\n	[/vc_column][vc_column width=”4/12″ css=”.vc_custom_1704799656261{padding-top: 0px !important;}”]\n		\n            Want this on your calendar?                    \n\n	[/vc_column][vc_column width=”4/12″][/vc_column][/vc_row][vc_row][vc_column]\n		\n            Get tickets now                    \n\n	[/vc_column][/vc_row][vc_row][vc_column][vc_column_text] \nExperience the excitement and glamour of the F1 circuit. It’s time to get in the fast lane!\nJoin us for an exhilarating racing experience designed to test your skills amongst friends and contacts old and new. \nIf you want the opportunity to network during working hours\, this is perfect for you. We like to give our business club members a variety of events with a twist. In this case\, it’s a hairpin bend into some lively afternoon networking and a chance to promote your business to other members\, regardless of who takes the chequered flag. \nOur venue of choice is the recently opened F1 Arcade in Chamberlain Square. Equipped with a range of full-motion bespoke racing simulators and a unique ambiance\, this is a truly unique networking experience we are pleased to offer our members. There will be a delicious selection of snacks to keep your energy levels up along with a free welcome drink (alcoholic and non-alcoholic) included. \nThe games on offer have a range of skill levels so whether you are a rookie or an elite\, you can confidently compete ‘pedal to the metal’ with the other racers on the track in either team or head-to-head racing. For those with a real competitive streak\, you are welcome to invite friends/colleagues along to see who takes the podium and those all-important bragging rights! (Non-members are subject to £12.50 entry fee). \n**Please note: ticket sales for this event are now closed. Check out our upcoming events for more opportunities to support Acorns\, or find out more about the Acorns Business Club.**[/vc_column_text][/vc_column][/vc_row][vc_row][vc_column][vc_column_text] \nOn the day\n\n12.30pm – Networking\n1.00pm – Event introduction and racing\n2.00pm onwards – Networking\n\nSo what are you waiting for? Secure your FREE space today. \nPLEASE NOTE\, this event is FREE for all Acorns Business Club members only. \nFind out more about joining our Acorns Business Club for just £10 per month and enjoying the array of benefits that are included with the membership.[/vc_column_text][/vc_column][/vc_row][vc_row theme_background=”theme-row theme-stroked-edge” full_width=”stretch_row” css=”.vc_custom_1703686810552{background-color: #d3efed !important;}”][vc_column width=”1/2″][vc_column_text] \nGet your tickets today\nDate: 14th March 2024\nTime: 12.30pm – 2.30pm\nLocation: F1 Arcade\, 2 Chamberlain Square\, Birmingham\, B3 3AX\nOrganiser: Acorns Children’s Hospice \nEmail: partnerships@acorns.org.uk\nTelephone: 01564 825037 \nBusiness Club Members: Free\nGeneral tickets: £12.50[/vc_column_text]\n		\n            Book my ticket                    \n\n	[/vc_column][vc_column width=”1/2″][vc_single_image image=”4014″ img_size=”700×500″ alignment=”center”][/vc_column][/vc_row][vc_row css=”.vc_custom_1707754463228{margin-top: 0px !important;border-top-width: 0px !important;}” el_id=”tickets”][vc_column][vc_separator el_id=”add-calendar”][vc_column_text el_id=”tickets”] \nCalendar and tickets\n[/vc_column_text][/vc_column][/vc_row]
URL:https://www.acorns.org.uk/acornsevent/business-club-f1-arcade/
LOCATION:F1 Arcade\, 2 Chamberlain Square\, Birmingham\, B3 3AX\, United Kingdom
CATEGORIES:Networking
ATTACH;FMTTYPE=image/jpeg:https://www.acorns.org.uk/wp-content/uploads/2024/01/F1-Arcade.jpg
ORGANIZER;CN="Acorns Children's Hospice":MAILTO:events@acorns.org.uk
GEO:52.4798262;-1.9048386
X-APPLE-STRUCTURED-LOCATION;VALUE=URI;X-ADDRESS=F1 Arcade 2 Chamberlain Square Birmingham B3 3AX United Kingdom;X-APPLE-RADIUS=500;X-TITLE=2 Chamberlain Square:geo:-1.9048386,52.4798262
END:VEVENT
BEGIN:VEVENT
DTSTART;TZID=Europe/London:20240211T150000
DTEND;TZID=Europe/London:20240211T170000
DTSTAMP:20260424T193537
CREATED:20240130T120553Z
LAST-MODIFIED:20240131T084331Z
UID:10000024-1707663600-1707670800@www.acorns.org.uk
SUMMARY:Birmingham Philharmonic Orchestra - Showtime!
DESCRIPTION:[vc_row full_width=”stretch_row” equal_height=”yes” css=”.vc_custom_1706626832769{background-color: #ecf3da !important;}”][vc_column width=”1/5″]\n		\n            Back to events                    \n\n	[/vc_column][vc_column width=”2/5″]\n		\n            Want this on your calendar?                    \n\n	[vc_empty_space height=”10px”][/vc_column][vc_column width=”1/5″][/vc_column][vc_column width=”1/5″][/vc_column][/vc_row][vc_row][vc_column][vc_column_text] \nJoin Birmingham Philharmonic Orchestra and Class Act Theatrix for an afternoon of your favourite songs from the shows.\nTheir Showtime! concert in aid of Acorns celebrates the best of Broadway and the West End\, with show tunes from musical theatre through the ages. Featuring music from Girl Crazy\, The Wizard of Oz\, Carousel\, The Sound of Music\, Oliver!\, Chicago\, Annie\, Sweeney Todd\, Les Misérables\, Wicked and The Greatest Showman. \nConductor Richard Laing.[/vc_column_text][/vc_column][/vc_row][vc_row theme_background=”theme-row theme-stroked-edge” full_width=”stretch_row” css=”.vc_custom_1706626839183{background-color: #ecf3da !important;}”][vc_column width=”1/2″][vc_column_text] \nGet your tickets!\nDate: 11th February 2024\nLocation: Walsall Arena\, Hawbush Road\, Bloxwich\, Walsall WS3 1AG \nTickets £15\n(Under 25s £6)[/vc_column_text]\n		\n            Get tickets                    \n\n	[/vc_column][vc_column width=”1/2″][vc_single_image image=”3926″ img_size=”full”][/vc_column][/vc_row][vc_row][vc_column][vc_separator el_id=”add-calendar”][vc_column_text] \nAdd this event to your calendar\n[/vc_column_text][/vc_column][/vc_row]
URL:https://www.acorns.org.uk/acornsevent/bpo-showtime/
LOCATION:Walsall Arena\, Hawbush Road\, Bloxwich\, Walsall\, WS3 1AG\, United Kingdom
CATEGORIES:Community events
ATTACH;FMTTYPE=image/png:https://www.acorns.org.uk/wp-content/uploads/2024/01/BPO-showtime.png
GEO:52.6035464;-1.983794
X-APPLE-STRUCTURED-LOCATION;VALUE=URI;X-ADDRESS=Walsall Arena Hawbush Road Bloxwich Walsall WS3 1AG United Kingdom;X-APPLE-RADIUS=500;X-TITLE=Hawbush Road:geo:-1.983794,52.6035464
END:VEVENT
END:VCALENDAR